BEGIN:VCALENDAR
PRODID:-//AT Content Types//AT Event//EN
VERSION:2.0
METHOD:PUBLISH
BEGIN:VEVENT
DTSTAMP:20260424T193845Z
CREATED:20110401T142116Z
UID:ATEvent-b92cbf5a7f23fae2de5268aac59345e9
LAST-MODIFIED:20110401T142158Z
SUMMARY:HEP-SM
DTSTART:20110405T120000Z
DTEND:20110405T133000Z
LOCATION:Lecture Room Euler
CONTACT:G. Senjanovic
URL:https://diploma-clear.ictp.it/courses/weekly-schedule/lecture-room-euler/hep-sm-59
CLASS:PUBLIC
END:VEVENT
END:VCALENDAR
