BEGIN:VCALENDAR
PRODID:-//AT Content Types//AT Event//EN
VERSION:2.0
METHOD:PUBLISH
BEGIN:VEVENT
DTSTAMP:20260425T025935Z
CREATED:20101221T150257Z
UID:ATEvent-c764c9b08724dfaaa9d480bf5669a8ec
LAST-MODIFIED:20110121T145241Z
SUMMARY:HEP-SM
DTSTART:20110210T130000Z
DTEND:20110210T143000Z
LOCATION:Lecture Room Euler
CONTACT:G. Senjanovic
URL:https://diploma-clear.ictp.it/courses/weekly-schedule/lecture-room-euler/hep-sm-46
CLASS:PUBLIC
END:VEVENT
END:VCALENDAR
