BEGIN:VCALENDAR
PRODID:-//AT Content Types//AT Event//EN
VERSION:2.0
METHOD:PUBLISH
BEGIN:VEVENT
DTSTAMP:20260425T030012Z
CREATED:20101221T150031Z
UID:ATEvent-2a965a8c8a7cde2f55bab8df1cf5e9a0
LAST-MODIFIED:20110121T145034Z
SUMMARY:HEP-SM
DTSTART:20110207T130000Z
DTEND:20110207T143000Z
LOCATION:Lecture Room Euler
CONTACT:G. Senjanovic
URL:https://diploma-clear.ictp.it/courses/weekly-schedule/lecture-room-euler/hep-sm-44
CLASS:PUBLIC
END:VEVENT
END:VCALENDAR
