BEGIN:VCALENDAR
PRODID:-//AT Content Types//AT Event//EN
VERSION:2.0
METHOD:PUBLISH
BEGIN:VEVENT
DTSTAMP:20260425T011906Z
CREATED:20110214T091659Z
UID:ATEvent-749e0fff3e333698d11406f434a300f3
LAST-MODIFIED:20110214T091726Z
SUMMARY:HEP-SM
DTSTART:20110314T130000Z
DTEND:20110314T143000Z
LOCATION:Lecture Room Euler
CONTACT:G. Senjanovic
URL:https://diploma-clear.ictp.it/courses/weekly-schedule/lecture-room-euler/hep-sm-40
CLASS:PUBLIC
END:VEVENT
END:VCALENDAR
