BEGIN:VCALENDAR
PRODID:-//AT Content Types//AT Event//EN
VERSION:1.0
BEGIN:VEVENT
DTSTART:20100315T100000Z
DTEND:20100315T113000Z
DCREATED:20091221T145628Z
UID:ATEvent-c2eaa84fc51a30fad6cd039106be7ebe
SEQUENCE:0
LAST-MODIFIED:20091221T145650Z
SUMMARY:HEP-SM
LOCATION:Lecture Room Euler
PRIORITY:3
TRANSP:0
END:VEVENT
END:VCALENDAR
