BEGIN:VCALENDAR
PRODID:-//AT Content Types//AT Event//EN
VERSION:2.0
METHOD:PUBLISH
BEGIN:VEVENT
DTSTAMP:20260422T023140Z
CREATED:20091221T144818Z
UID:ATEvent-55a251a223508db1110be603007ad799
LAST-MODIFIED:20091221T144838Z
SUMMARY:HEP-SM
DTSTART:20100310T100000Z
DTEND:20100310T113000Z
LOCATION:Lecture Room Euler
CONTACT:Goran Senjanovic
URL:https://diploma-clear.ictp.it/courses/weekly-schedule/lecture-room-euler/hep-sm-36
CLASS:PUBLIC
END:VEVENT
END:VCALENDAR
