BEGIN:VCALENDAR
PRODID:-//AT Content Types//AT Event//EN
VERSION:2.0
METHOD:PUBLISH
BEGIN:VEVENT
DTSTAMP:20260420T232527Z
CREATED:20100222T094440Z
UID:ATEvent-5fcfea1e92268be8b5bd6af4f4f4c64b
LAST-MODIFIED:20100222T094528Z
SUMMARY:HEP-SM
DTSTART:20100322T100000Z
DTEND:20100322T113000Z
LOCATION:Lecture Room Euler
CONTACT:Goran Senjanovic
URL:https://diploma-clear.ictp.it/courses/weekly-schedule/lecture-room-euler/hep-sm-31
CLASS:PUBLIC
END:VEVENT
END:VCALENDAR
