BEGIN:VCALENDAR
PRODID:-//AT Content Types//AT Event//EN
VERSION:1.0
BEGIN:VEVENT
DTSTART:20090213T100000Z
DTEND:20090213T113000Z
DCREATED:20090107T155457Z
UID:ATEvent-93bb4d5b78b4ddaca278f85b906d3e0b
SEQUENCE:0
LAST-MODIFIED:20090108T134958Z
SUMMARY:HEP-SM
LOCATION:Lecture Room Euler
PRIORITY:3
TRANSP:0
END:VEVENT
END:VCALENDAR
