BEGIN:VCALENDAR
PRODID:-//AT Content Types//AT Event//EN
VERSION:2.0
METHOD:PUBLISH
BEGIN:VEVENT
DTSTAMP:20260422T161921Z
CREATED:20090108T161017Z
UID:ATEvent-170bf648da10605c710512b81af20714
LAST-MODIFIED:20090108T161056Z
SUMMARY:HEP-SM
DTSTART:20090327T100000Z
DTEND:20090327T113000Z
LOCATION:Lecture Room Euler
CONTACT:Goran Senjanovic
URL:https://diploma-clear.ictp.it/courses/weekly-schedule/lecture-room-euler/hep-sm-22
CLASS:PUBLIC
END:VEVENT
END:VCALENDAR
