BEGIN:VCALENDAR
PRODID:-//AT Content Types//AT Event//EN
VERSION:1.0
BEGIN:VEVENT
DTSTART:20090311T100000Z
DTEND:20090311T113000Z
DCREATED:20090108T155742Z
UID:ATEvent-58d301b1c02fe450b42d30936811933b
SEQUENCE:0
LAST-MODIFIED:20090108T155835Z
SUMMARY:HEP-SM
LOCATION:Lecture Room Euler
PRIORITY:3
TRANSP:0
END:VEVENT
END:VCALENDAR
