BEGIN:VCALENDAR
PRODID:-//AT Content Types//AT Event//EN
VERSION:2.0
METHOD:PUBLISH
BEGIN:VEVENT
DTSTAMP:20260422T095219Z
CREATED:20090108T155505Z
UID:ATEvent-8a58682e075c92a3ec9f0722f358b025
LAST-MODIFIED:20090108T155551Z
SUMMARY:HEP-SM
DTSTART:20090306T100000Z
DTEND:20090306T113000Z
LOCATION:Lecture Room Euler
CONTACT:Goran Senjanovic
URL:https://diploma-clear.ictp.it/courses/weekly-schedule/lecture-room-euler/hep-sm-13
CLASS:PUBLIC
END:VEVENT
END:VCALENDAR
