BEGIN:VCALENDAR
PRODID:-//AT Content Types//AT Event//EN
VERSION:2.0
METHOD:PUBLISH
BEGIN:VEVENT
DTSTAMP:20260422T100431Z
CREATED:20090302T105909Z
UID:ATEvent-f090afeea287171e458073058fb3a729
LAST-MODIFIED:20090330T080330Z
SUMMARY:HEP-SM
DTSTART:20090331T090000Z
DTEND:20090331T103000Z
LOCATION:Lecture Room Euler
CONTACT:Goran Senjanovic
URL:https://diploma-clear.ictp.it/courses/weekly-schedule/lecture-room-euler/hep-sm-11
CLASS:PUBLIC
END:VEVENT
END:VCALENDAR
