BEGIN:VCALENDAR
PRODID:-//AT Content Types//AT Event//EN
VERSION:2.0
METHOD:PUBLISH
BEGIN:VEVENT
DTSTAMP:20260420T232457Z
CREATED:20090108T140930Z
UID:ATEvent-079c6d6234424144443ca3e259993611
LAST-MODIFIED:20090108T141016Z
SUMMARY:HEP-SM
DTSTART:20090227T100000Z
DTEND:20090227T113000Z
LOCATION:Lecture Room Euler
CONTACT:Goran Senjanovic
URL:https://diploma-clear.ictp.it/courses/weekly-schedule/lecture-room-euler/hep-sm-10
CLASS:PUBLIC
END:VEVENT
END:VCALENDAR
