BEGIN:VCALENDAR
PRODID:-//AT Content Types//AT Event//EN
VERSION:1.0
BEGIN:VEVENT
DTSTART:20090414T120000Z
DTEND:20090414T133000Z
DCREATED:20090109T093813Z
UID:ATEvent-530ba04463d6f7b1062a6d83ee924a55
SEQUENCE:0
LAST-MODIFIED:20090109T093931Z
SUMMARY:HEP-SFT
LOCATION:Lecture Room Euler
PRIORITY:3
TRANSP:0
END:VEVENT
END:VCALENDAR
