BEGIN:VCALENDAR
PRODID:-//AT Content Types//AT Event//EN
VERSION:1.0
BEGIN:VEVENT
DTSTART:20090507T070000Z
DTEND:20090507T083000Z
DCREATED:20090109T100526Z
UID:ATEvent-967d9209e868f351e97eb25368ba1bc2
SEQUENCE:0
LAST-MODIFIED:20090414T141847Z
SUMMARY:HEP-SFT
LOCATION:Lecture Room Euler
PRIORITY:3
TRANSP:0
END:VEVENT
END:VCALENDAR
