BEGIN:VCALENDAR
PRODID:-//AT Content Types//AT Event//EN
VERSION:2.0
METHOD:PUBLISH
BEGIN:VEVENT
DTSTAMP:20260421T102723Z
CREATED:20090109T094606Z
UID:ATEvent-6d885b93fc65db0849322989b3fc0748
LAST-MODIFIED:20090414T142325Z
SUMMARY:HEP-SFT
DTSTART:20090424T070000Z
DTEND:20090424T083000Z
LOCATION:Lecture Room Euler
CONTACT:Edi Gava
URL:https://diploma-clear.ictp.it/courses/weekly-schedule/lecture-room-euler/hep-sft-5
CLASS:PUBLIC
END:VEVENT
END:VCALENDAR
