BEGIN:VCALENDAR
PRODID:-//AT Content Types//AT Event//EN
VERSION:1.0
BEGIN:VEVENT
DTSTART:20090421T070000Z
DTEND:20090421T083000Z
DCREATED:20090109T094341Z
UID:ATEvent-212f874bd0afa72cd417ca229df731af
SEQUENCE:0
LAST-MODIFIED:20090414T142412Z
SUMMARY:HEP-SFT
LOCATION:Lecture Room Euler
PRIORITY:3
TRANSP:0
END:VEVENT
END:VCALENDAR
