BEGIN:VCALENDAR
PRODID:-//AT Content Types//AT Event//EN
VERSION:1.0
BEGIN:VEVENT
DTSTART:20100513T070000Z
DTEND:20100513T083000Z
DCREATED:20100303T085422Z
UID:ATEvent-1b07bfd5567bd43ee37435ac1911b182
SEQUENCE:0
LAST-MODIFIED:20100511T080909Z
SUMMARY:HEP-SFT
LOCATION:Lecture Room Euler
PRIORITY:3
TRANSP:0
END:VEVENT
END:VCALENDAR
