BEGIN:VCALENDAR
PRODID:-//AT Content Types//AT Event//EN
VERSION:2.0
METHOD:PUBLISH
BEGIN:VEVENT
DTSTAMP:20260426T035857Z
CREATED:20100301T150640Z
UID:ATEvent-76421fd2ed8ae6b647902ce779eb6525
LAST-MODIFIED:20100301T150720Z
SUMMARY:HEP-SFT
DTSTART:20100414T070000Z
DTEND:20100414T083000Z
LOCATION:Lecture Room Euler
CONTACT:Edi Gava
URL:https://diploma-clear.ictp.it/courses/weekly-schedule/lecture-room-euler/hep-sft-18
CLASS:PUBLIC
END:VEVENT
END:VCALENDAR
