BEGIN:VCALENDAR
PRODID:-//AT Content Types//AT Event//EN
VERSION:2.0
METHOD:PUBLISH
BEGIN:VEVENT
DTSTAMP:20260419T211220Z
CREATED:20090109T101530Z
UID:ATEvent-6e034652ea0aeb9c10cda7964b62288d
LAST-MODIFIED:20090414T141636Z
SUMMARY:HEP-SFT
DTSTART:20090514T070000Z
DTEND:20090514T083000Z
LOCATION:Lecture Room Euler
CONTACT:Edi Gava
URL:https://diploma-clear.ictp.it/courses/weekly-schedule/lecture-room-euler/hep-sft-13
CLASS:PUBLIC
END:VEVENT
END:VCALENDAR
