BEGIN:VCALENDAR
PRODID:-//AT Content Types//AT Event//EN
VERSION:1.0
BEGIN:VEVENT
DTSTART:20090512T070000Z
DTEND:20090512T083000Z
DCREATED:20090109T101419Z
UID:ATEvent-c4a507598a815875db7d063ee0447550
SEQUENCE:0
LAST-MODIFIED:20090414T141657Z
SUMMARY:HEP-SFT
LOCATION:Lecture Room Euler
PRIORITY:3
TRANSP:0
END:VEVENT
END:VCALENDAR
