BEGIN:VCALENDAR
PRODID:-//AT Content Types//AT Event//EN
VERSION:1.0
BEGIN:VEVENT
DTSTART:20090508T070000Z
DTEND:20090508T083000Z
DCREATED:20090109T101129Z
UID:ATEvent-02df0244c3e6c755d3f84ca8638a791b
SEQUENCE:0
LAST-MODIFIED:20090414T141819Z
SUMMARY:HEP-SFT
LOCATION:Lecture Room Euler
PRIORITY:3
TRANSP:0
END:VEVENT
END:VCALENDAR
