BEGIN:VCALENDAR
PRODID:-//AT Content Types//AT Event//EN
VERSION:2.0
METHOD:PUBLISH
BEGIN:VEVENT
DTSTAMP:20260425T022114Z
CREATED:20110826T130303Z
UID:ATEvent-e79a1523cc06b3c2787af7f23383b2fd
LAST-MODIFIED:20110826T130329Z
SUMMARY:HEP-RQM
DTSTART:20110912T090000Z
DTEND:20110912T103000Z
LOCATION:Lecture Room Euler
CONTACT:E. Gava
URL:https://diploma-clear.ictp.it/courses/weekly-schedule/lecture-room-euler/hep-rqm-47
CLASS:PUBLIC
END:VEVENT
END:VCALENDAR
