BEGIN:VCALENDAR
PRODID:-//AT Content Types//AT Event//EN
VERSION:2.0
METHOD:PUBLISH
BEGIN:VEVENT
DTSTAMP:20260422T162215Z
CREATED:20100916T144939Z
UID:ATEvent-4254c131a6531a162ec5dcea8573b596
LAST-MODIFIED:20100916T145005Z
SUMMARY:HEP-RQM
DTSTART:20101020T120000Z
DTEND:20101020T133000Z
LOCATION:Lecture Room Euler
CONTACT:E. Gava
URL:https://diploma-clear.ictp.it/courses/weekly-schedule/lecture-room-euler/hep-rqm-41
CLASS:PUBLIC
END:VEVENT
END:VCALENDAR
