BEGIN:VCALENDAR
PRODID:-//AT Content Types//AT Event//EN
VERSION:2.0
METHOD:PUBLISH
BEGIN:VEVENT
DTSTAMP:20260422T162123Z
CREATED:20100916T141256Z
UID:ATEvent-3cdf8a83d260a0cdbfa1ffafd531ac34
LAST-MODIFIED:20100916T141326Z
SUMMARY:HEP-RQM
DTSTART:20101018T090000Z
DTEND:20101018T103000Z
LOCATION:Lecture Room Euler
CONTACT:E. Gava
URL:https://diploma-clear.ictp.it/courses/weekly-schedule/lecture-room-euler/hep-rqm-40
CLASS:PUBLIC
END:VEVENT
END:VCALENDAR
