BEGIN:VCALENDAR
PRODID:-//AT Content Types//AT Event//EN
VERSION:2.0
METHOD:PUBLISH
BEGIN:VEVENT
DTSTAMP:20260423T122358Z
CREATED:20100916T122453Z
UID:ATEvent-49fd7e4366e093ca55e50d0a3a44af4f
LAST-MODIFIED:20100916T122514Z
SUMMARY:HEP-RQM
DTSTART:20101015T120000Z
DTEND:20101015T133000Z
LOCATION:Lecture Room Euler
CONTACT:E. Gava
URL:https://diploma-clear.ictp.it/courses/weekly-schedule/lecture-room-euler/hep-rqm-39
CLASS:PUBLIC
END:VEVENT
END:VCALENDAR
