BEGIN:VCALENDAR
PRODID:-//AT Content Types//AT Event//EN
VERSION:1.0
BEGIN:VEVENT
DTSTART:20101011T090000Z
DTEND:20101011T103000Z
DCREATED:20100916T121036Z
UID:ATEvent-279ce2eec3a626a2c356cfdfee6fe5e9
SEQUENCE:0
LAST-MODIFIED:20100916T121105Z
SUMMARY:HEP-RQM
LOCATION:Lecture Room Euler
PRIORITY:3
TRANSP:0
END:VEVENT
END:VCALENDAR
