BEGIN:VCALENDAR
PRODID:-//AT Content Types//AT Event//EN
VERSION:1.0
BEGIN:VEVENT
DTSTART:20101004T090000Z
DTEND:20101004T103000Z
DCREATED:20100831T135659Z
UID:ATEvent-494ef06aebd6ca5804b34c48c720c79a
SEQUENCE:0
LAST-MODIFIED:20100915T140115Z
SUMMARY:HEP-RQM
LOCATION:Lecture Room Euler
PRIORITY:3
TRANSP:0
END:VEVENT
END:VCALENDAR
