BEGIN:VCALENDAR
PRODID:-//AT Content Types//AT Event//EN
VERSION:1.0
BEGIN:VEVENT
DTSTART:20221025T090000Z
DTEND:20221025T103000Z
DCREATED:20221020T090934Z
UID:ATEvent-4e4d9c5a93054c7c85409113bc24fa36
SEQUENCE:0
LAST-MODIFIED:20221020T091010Z
SUMMARY:HEP-QM tut.
LOCATION:Lecture Room Euler
PRIORITY:3
TRANSP:0
END:VEVENT
END:VCALENDAR
