BEGIN:VCALENDAR
PRODID:-//AT Content Types//AT Event//EN
VERSION:1.0
BEGIN:VEVENT
DTSTART:20090213T130000Z
DTEND:20090213T143000Z
DCREATED:20090127T144619Z
UID:ATEvent-200bb44b5c1f899744ead447e4004b9e
SEQUENCE:0
LAST-MODIFIED:20090127T144718Z
SUMMARY:HEP-QFT tut.
LOCATION:Lecture Room Euler
PRIORITY:3
TRANSP:0
END:VEVENT
END:VCALENDAR
