BEGIN:VCALENDAR
PRODID:-//AT Content Types//AT Event//EN
VERSION:2.0
METHOD:PUBLISH
BEGIN:VEVENT
DTSTAMP:20260425T225547Z
CREATED:20090127T151243Z
UID:ATEvent-3fffb22ec33505aae8110b7e6ef81051
LAST-MODIFIED:20090127T151332Z
SUMMARY:HEP-QFT tut.
DTSTART:20090409T140000Z
DTEND:20090409T153000Z
LOCATION:Lecture Room Euler
CONTACT:Bindusar Sahoo
URL:https://diploma-clear.ictp.it/courses/weekly-schedule/lecture-room-euler/hep-qft-tut-8
CLASS:PUBLIC
END:VEVENT
END:VCALENDAR
