BEGIN:VCALENDAR
PRODID:-//AT Content Types//AT Event//EN
VERSION:1.0
BEGIN:VEVENT
DTSTART:20160530T140000Z
DTEND:20160530T153000Z
DCREATED:20160419T082723Z
UID:ATEvent-3983f760e92a4391813c9ac5bb6e69a5
SEQUENCE:0
LAST-MODIFIED:20160527T100318Z
SUMMARY:HEP-QFT tut.
LOCATION:Lecture Room Euler
PRIORITY:3
TRANSP:0
END:VEVENT
END:VCALENDAR
