BEGIN:VCALENDAR
PRODID:-//AT Content Types//AT Event//EN
VERSION:1.0
BEGIN:VEVENT
DTSTART:20090403T120000Z
DTEND:20090403T133000Z
DCREATED:20090127T151125Z
UID:ATEvent-15ff3a17e1dde74bbcebb5c1321cb284
SEQUENCE:0
LAST-MODIFIED:20090127T151206Z
SUMMARY:HEP-QFT tut.
LOCATION:Lecture Room Euler
PRIORITY:3
TRANSP:0
END:VEVENT
END:VCALENDAR
