BEGIN:VCALENDAR
PRODID:-//AT Content Types//AT Event//EN
VERSION:1.0
BEGIN:VEVENT
DTSTART:20120412T120000Z
DTEND:20120412T133000Z
DCREATED:20120130T134343Z
UID:ATEvent-a687f1f7eebd0959f6ec954d91ffdf6b
SEQUENCE:0
LAST-MODIFIED:20120306T132417Z
SUMMARY:HEP-QFT tut.
LOCATION:Lecture Room Euler
PRIORITY:3
TRANSP:0
END:VEVENT
END:VCALENDAR
