BEGIN:VCALENDAR
PRODID:-//AT Content Types//AT Event//EN
VERSION:2.0
METHOD:PUBLISH
BEGIN:VEVENT
DTSTAMP:20260423T020525Z
CREATED:20111216T153539Z
UID:ATEvent-1fb9b828c0fcdc72243897761b96eb38
LAST-MODIFIED:20120227T135452Z
SUMMARY:HEP-QFT tut.
DTSTART:20120221T100000Z
DTEND:20120221T113000Z
LOCATION:Lecture Room Euler
CONTACT:E. Hatefi
URL:https://diploma-clear.ictp.it/courses/weekly-schedule/lecture-room-euler/hep-qft-tut-38
CLASS:PUBLIC
END:VEVENT
END:VCALENDAR
