BEGIN:VCALENDAR
PRODID:-//AT Content Types//AT Event//EN
VERSION:2.0
METHOD:PUBLISH
BEGIN:VEVENT
DTSTAMP:20260425T023904Z
CREATED:20110222T112648Z
UID:ATEvent-9b271d60d2a78736956ba07de90337dc
LAST-MODIFIED:20110222T112728Z
SUMMARY:HEP-QFT tut.
DTSTART:20110408T140000Z
DTEND:20110408T153000Z
LOCATION:Lecture Room Euler
CONTACT:Bindusar SAHOO
URL:https://diploma-clear.ictp.it/courses/weekly-schedule/lecture-room-euler/hep-qft-tut-30
CLASS:PUBLIC
END:VEVENT
END:VCALENDAR
