BEGIN:VCALENDAR
PRODID:-//AT Content Types//AT Event//EN
VERSION:1.0
BEGIN:VEVENT
DTSTART:20110311T100000Z
DTEND:20110311T113000Z
DCREATED:20110222T112203Z
UID:ATEvent-1842d6ae2e52e24d45150076f82686d6
SEQUENCE:0
LAST-MODIFIED:20110310T125147Z
SUMMARY:HEP-QFT tut.
LOCATION:Lecture Room Euler
PRIORITY:3
TRANSP:0
END:VEVENT
END:VCALENDAR
