BEGIN:VCALENDAR
PRODID:-//AT Content Types//AT Event//EN
VERSION:1.0
BEGIN:VEVENT
DTSTART:20090508T140000Z
DTEND:20090508T153000Z
DCREATED:20090416T115623Z
UID:ATEvent-cfcb175a28ea72077bd07a5d3f1cae7b
SEQUENCE:0
LAST-MODIFIED:20090430T095037Z
SUMMARY:HEP-QFT tut.
LOCATION:Lecture Room Euler
PRIORITY:3
TRANSP:0
END:VEVENT
END:VCALENDAR
