BEGIN:VCALENDAR
PRODID:-//AT Content Types//AT Event//EN
VERSION:2.0
METHOD:PUBLISH
BEGIN:VEVENT
DTSTAMP:20260421T020030Z
CREATED:20220214T155410Z
UID:ATEvent-80d76c1a3bad4cbdb62e89e3998eca6b
LAST-MODIFIED:20220301T081713Z
SUMMARY:HEP-QFT II tut.
DTSTART:20220329T090000Z
DTEND:20220329T103000Z
LOCATION:Lecture Room Euler
CONTACT:I. Zadeh
URL:https://diploma-clear.ictp.it/courses/weekly-schedule/lecture-room-euler/hep-qft-ii-tut-1
CLASS:PUBLIC
END:VEVENT
END:VCALENDAR
