BEGIN:VCALENDAR
PRODID:-//AT Content Types//AT Event//EN
VERSION:1.0
BEGIN:VEVENT
DTSTART:20220207T150000Z
DTEND:20220207T163000Z
DCREATED:20220110T152939Z
UID:ATEvent-ca662bc821e7401ba41f629ed3dbb3b3
SEQUENCE:0
LAST-MODIFIED:20220114T145413Z
SUMMARY:HEP-QFT II
LOCATION:Lecture Room Euler
PRIORITY:3
TRANSP:0
END:VEVENT
END:VCALENDAR
