BEGIN:VCALENDAR
PRODID:-//AT Content Types//AT Event//EN
VERSION:1.0
BEGIN:VEVENT
DTSTART:20220211T150000Z
DTEND:20220211T163000Z
DCREATED:20220110T150626Z
UID:ATEvent-5959e6adfda9430b8467c360bed57372
SEQUENCE:0
LAST-MODIFIED:20220110T150654Z
SUMMARY:HEP-QFT II
LOCATION:Lecture Room Euler
PRIORITY:3
TRANSP:0
END:VEVENT
END:VCALENDAR
