BEGIN:VCALENDAR
PRODID:-//AT Content Types//AT Event//EN
VERSION:2.0
METHOD:PUBLISH
BEGIN:VEVENT
DTSTAMP:20260421T102722Z
CREATED:20090107T135322Z
UID:ATEvent-65e07d148d741f8aa996f629fd7b7f11
LAST-MODIFIED:20090107T135429Z
SUMMARY:HEP-QFT
DTSTART:20090219T100000Z
DTEND:20090219T113000Z
LOCATION:Lecture Room Euler
CONTACT:K. S. Narain
URL:https://diploma-clear.ictp.it/courses/weekly-schedule/lecture-room-euler/hep-qft-9
CLASS:PUBLIC
END:VEVENT
END:VCALENDAR
