BEGIN:VCALENDAR
PRODID:-//AT Content Types//AT Event//EN
VERSION:2.0
METHOD:PUBLISH
BEGIN:VEVENT
DTSTAMP:20260422T081225Z
CREATED:20090107T135215Z
UID:ATEvent-0cac965b3b61751d796d49e2ac55a8cb
LAST-MODIFIED:20090107T135258Z
SUMMARY:HEP-QFT
DTSTART:20090217T100000Z
DTEND:20090217T113000Z
LOCATION:Lecture Room Euler
CONTACT:K. S. Narain
URL:https://diploma-clear.ictp.it/courses/weekly-schedule/lecture-room-euler/hep-qft-8
CLASS:PUBLIC
END:VEVENT
END:VCALENDAR
