BEGIN:VCALENDAR
PRODID:-//AT Content Types//AT Event//EN
VERSION:1.0
BEGIN:VEVENT
DTSTART:20110310T100000Z
DTEND:20110310T113000Z
DCREATED:20110209T145613Z
UID:ATEvent-a86f6042838b99dfc0691c2841c9759d
SEQUENCE:0
LAST-MODIFIED:20110304T154918Z
SUMMARY:HEP-QFT
LOCATION:Lecture Room Euler
PRIORITY:3
TRANSP:0
END:VEVENT
END:VCALENDAR
