BEGIN:VCALENDAR
PRODID:-//AT Content Types//AT Event//EN
VERSION:1.0
BEGIN:VEVENT
DTSTART:20110210T100000Z
DTEND:20110210T113000Z
DCREATED:20110121T145258Z
UID:ATEvent-3e3a91535308f7cdd519f3d6b5702823
SEQUENCE:0
LAST-MODIFIED:20110121T145324Z
SUMMARY:HEP-QFT
LOCATION:Lecture Room Euler
PRIORITY:3
TRANSP:0
END:VEVENT
END:VCALENDAR
