BEGIN:VCALENDAR
PRODID:-//AT Content Types//AT Event//EN
VERSION:2.0
METHOD:PUBLISH
BEGIN:VEVENT
DTSTAMP:20260425T011906Z
CREATED:20101221T152026Z
UID:ATEvent-b29b6707867d0903dedea769f19fa330
LAST-MODIFIED:20101221T152053Z
SUMMARY:HEP-QFT
DTSTART:20110301T100000Z
DTEND:20110301T113000Z
LOCATION:Lecture Room Euler
CONTACT:K.S. Narain
URL:https://diploma-clear.ictp.it/courses/weekly-schedule/lecture-room-euler/hep-qft-66
CLASS:PUBLIC
END:VEVENT
END:VCALENDAR
