BEGIN:VCALENDAR
PRODID:-//AT Content Types//AT Event//EN
VERSION:2.0
METHOD:PUBLISH
BEGIN:VEVENT
DTSTAMP:20260424T223649Z
CREATED:20101221T151618Z
UID:ATEvent-f755ecd0e6abc4eed6b369f5a0871f50
LAST-MODIFIED:20101221T151636Z
SUMMARY:HEP-QFT
DTSTART:20110224T100000Z
DTEND:20110224T113000Z
LOCATION:Lecture Room Euler
CONTACT:K.S. Narain
URL:https://diploma-clear.ictp.it/courses/weekly-schedule/lecture-room-euler/hep-qft-65
CLASS:PUBLIC
END:VEVENT
END:VCALENDAR
