BEGIN:VCALENDAR
PRODID:-//AT Content Types//AT Event//EN
VERSION:1.0
BEGIN:VEVENT
DTSTART:20110217T100000Z
DTEND:20110217T113000Z
DCREATED:20101221T150850Z
UID:ATEvent-1646b09f9fdc3d6cd5a127f6c8b4e24f
SEQUENCE:0
LAST-MODIFIED:20110121T145450Z
SUMMARY:HEP-QFT
LOCATION:Lecture Room Euler
PRIORITY:3
TRANSP:0
END:VEVENT
END:VCALENDAR
