BEGIN:VCALENDAR
PRODID:-//AT Content Types//AT Event//EN
VERSION:1.0
BEGIN:VEVENT
DTSTART:20110127T100000Z
DTEND:20110127T113000Z
DCREATED:20101221T144651Z
UID:ATEvent-44848abcd6480ee1202b357fae514bd3
SEQUENCE:0
LAST-MODIFIED:20101221T144734Z
SUMMARY:HEP-QFT
LOCATION:Lecture Room Euler
PRIORITY:3
TRANSP:0
END:VEVENT
END:VCALENDAR
