BEGIN:VCALENDAR
PRODID:-//AT Content Types//AT Event//EN
VERSION:1.0
BEGIN:VEVENT
DTSTART:20100429T070000Z
DTEND:20100429T083000Z
DCREATED:20100302T143322Z
UID:ATEvent-a690be3f8a6570aec12a51947881f8e7
SEQUENCE:0
LAST-MODIFIED:20100302T143401Z
SUMMARY:HEP-QFT
LOCATION:Lecture Room Euler
PRIORITY:3
TRANSP:0
END:VEVENT
END:VCALENDAR
